{"text_format":"3","workbook":"xlsx","n_sheets":2,"sheets":["サンプル","入力設定シート"],"not_rendered":{"comments":1},"read":"whole","date_system":"1900"}

{"sheet":"サンプル","index":0,"n_rows":32,"n_cols":14,"rows_kept":32,"merged":[[1,1,3,7],[2,8,3,8],[2,9,3,9],[4,2,4,9],[5,2,5,9],[6,2,6,9],[8,11,9,11],[8,12,8,13],[18,12,18,13],[31,1,55,9]]}
[]
[null,"    検   査   成   績   書",{"$nulls":6},"承認","検印"]
[]
[]
[null,"検  査  日"]
[null,"製  品  名"]
[null,"検  査  数"]
[null,"検査項目","高さ","重量","隙間","外観"]
[null,"標準",{"v":45,"d":"45.0"},{"v":50,"d":"50.0"},{"v":2.5,"d":"2.50"},{"$nulls":6},"検査項目","数値の発声例"]
[null,"上限",{"v":46,"d":"46.0"},{"v":51,"d":"51.0"},{"v":2.8,"d":"2.80"},{"$nulls":7},"よみ","出力"]
[null,"下限",{"v":44,"d":"44.0"},{"v":49,"d":"49.0"},{"v":2.2,"d":"2.20"},{"$nulls":6},"高さ","よんごーてんさん","45.3"]
[null,1,{"$nulls":9},"重量","ごーれいてんなな","50.7"]
[null,2,{"$nulls":9},"隙間","にーてんさんはち","2.38"]
[null,3]
[null,4]
[null,5]
[null,6]
[null,7]
[null,8,{"$nulls":10},"外観"]
[null,9,{"$nulls":10},"よみ","出力"]
[null,10,{"$nulls":10},"いぶつこんにゅう","異物混入"]
[null,11,{"$nulls":10},"いぶつふちゃく","異物付着"]
[null,12,{"$nulls":10},"きず","キズ"]
[null,13,{"$nulls":10},"くらっく","クラック"]
[null,14,{"$nulls":10},"へんけい","変形"]
[null,15,{"$nulls":10},"あぶらふちゃく","油付着"]
[null,16,{"$nulls":10},"きほう","気泡"]
[null,17,{"$nulls":10},"いろむら","色むら"]
[null,18,{"$nulls":10},"やけ","焼け"]
[null,19,{"$nulls":10},"へこみ","へこみ"]
[null,20,{"$nulls":10},"われ","ワレ"]
[{"$nulls":12},"みずぬれ","水濡れ"]

{"sheet":"入力設定シート","index":1,"n_rows":129,"n_cols":21,"rows_kept":129,"merged":[[3,1,3,2],[3,3,3,4],[3,6,3,13],[4,1,4,2],[4,3,4,4],[4,6,4,13],[5,1,5,2],[5,3,5,4],[5,6,5,13],[6,6,6,13],[7,6,7,13],[8,6,8,13],[9,6,9,13],[10,6,10,13],[11,6,11,13]]}
["入力設定"]
[]
["黄色セル内に、設定値を入力してください。",{"$nulls":5},"説明：","詳細はヘルプボタンを押してください。"]
[null,"出力シート名",null,"サンプル",null,null,"出力シート名： 音声入力を行うシート名を記述する。"]
[null,"入力方向",null,"↓方向",null,null,"　既存のチェックシート等を使用する場合には、同一ファイル内にコピーする。"]
[null,"入力サンプル数",null,5,null,null,"入力順序：入力方向を選択する。"]
[{"$nulls":6},"　①→方向：サンプル毎に全項目を入力。"]
[null,null,"入力欄",{"$nulls":3},"　②↓方向：項目毎に全サンプルを入力。"]
[null,null,"入力不要",{"$nulls":3},"入力サンプル数：　検査を行うサンプル数を入力。"]
[null,null,"エラー",{"$nulls":3},"⑧範囲区分：リストボックスから規格値の範囲区分を選択する。"]
[{"$nulls":6},"　①上下限：規格値上限値および下限値の範囲を規格範囲として判定する。"]
[{"$nulls":6},"　②公差：規格値に＋公差および－公差を加えた範囲を規格範囲として判定する。"]
["項目設定"]
["①入力項目No",1,2,3,4,5,6,7,8,9,10,11,12,13,14,15,16,17,18,19,20]
["②入力可否","○","○","○","○","×","×","×","×","×","×","×","×","×","×","×","×","×","×","×","×"]
["③入力順序"]
["④発声項目\n　  (空白可)",{"$f":"サンプル!C8","v":"高さ"},{"$f":"サンプル!D8","v":"重量"},{"$f":"サンプル!E8","v":"隙間"},{"$f":"サンプル!F8","v":"外観"}]
["⑤入力種別","数値","数値","数値","単語","数値","数値","数値","単語","数値","数値","数値","数値","数値","数値","数値","数値","数値","数値","数値","数値"]
["⑥規格ﾁｪｯｸ","○","○","○","×","×","×","×","×","×","×","×","×","×","×","×","×","×","×","×","×"]
["⑦規格値"]
["⑧範囲区分","上下限","上下限","上下限","上下限","上下限","上下限","上下限","上下限","上下限","上下限","上下限","上下限","上下限","上下限","上下限","上下限","上下限","上下限","上下限","上下限"]
["　規格上限値",{"$f":"サンプル!C10","v":{"v":46,"d":"46.0"}},{"$f":"サンプル!D10","v":{"v":51,"d":"51.0"}},{"$f":"サンプル!E10","v":2.8}]
["　規格下限値",{"$f":"サンプル!C11","v":{"v":44,"d":"44.0"}},{"$f":"サンプル!D11","v":{"v":49,"d":"49.0"}},{"$f":"サンプル!E11","v":2.2}]
["　 +公差"]
[" 　-公差"]
["⑨入力値演算"]
["⑩入力桁数",2.1,2.1,1.2]
[]
["データ入力位置",null," 入力は出力シートのセルの参照で行います。"]
[1,{"$f":"サンプル!C12","v":{"v":0,"d":"0.0"}},{"$f":"サンプル!D12","v":{"v":0,"d":"0.0"}},{"$f":"サンプル!E12","v":{"v":0,"d":"0.00"}},{"$f":"サンプル!F12","v":{"v":0,"d":"0 "}}]
[2,{"$f":"サンプル!C13","v":{"v":0,"d":"0.0"}},{"$f":"サンプル!D13","v":{"v":0,"d":"0.0"}},{"$f":"サンプル!E13","v":{"v":0,"d":"0.00"}},{"$f":"サンプル!F13","v":{"v":0,"d":"0 "}}]
[3,{"$f":"サンプル!C14","v":{"v":0,"d":"0.0"}},{"$f":"サンプル!D14","v":{"v":0,"d":"0.0"}},{"$f":"サンプル!E14","v":{"v":0,"d":"0.00"}},{"$f":"サンプル!F14","v":{"v":0,"d":"0 "}}]
[4,{"$f":"サンプル!C15","v":{"v":0,"d":"0.0"}},{"$f":"サンプル!D15","v":{"v":0,"d":"0.0"}},{"$f":"サンプル!E15","v":{"v":0,"d":"0.00"}},{"$f":"サンプル!F15","v":{"v":0,"d":"0 "}}]
[5,{"$f":"サンプル!C16","v":{"v":0,"d":"0.0"}},{"$f":"サンプル!D16","v":{"v":0,"d":"0.0"}},{"$f":"サンプル!E16","v":{"v":0,"d":"0.00"}},{"$f":"サンプル!F16","v":{"v":0,"d":"0 "}}]
[6]
[7]
[8]
[9]
[10]
[11]
[12]
[13]
[14]
[15]
[16]
[17]
[18]
[19]
[20]
[21]
[22]
[23]
[24]
[25]
[26]
[27]
[28]
[29]
[30]
[31]
[32]
[33]
[34]
[35]
[36]
[37]
[38]
[39]
[40]
[41]
[42]
[43]
[44]
[45]
[46]
[47]
[48]
[49]
[50]
[51]
[52]
[53]
[54]
[55]
[56]
[57]
[58]
[59]
[60]
[61]
[62]
[63]
[64]
[65]
[66]
[67]
[68]
[69]
[70]
[71]
[72]
[73]
[74]
[75]
[76]
[77]
[78]
[79]
[80]
[81]
[82]
[83]
[84]
[85]
[86]
[87]
[88]
[89]
[90]
[91]
[92]
[93]
[94]
[95]
[96]
[97]
[98]
[99]
[100]