{"text_format":"3","workbook":"xlsx","n_sheets":2,"sheets":["サンプル","入力設定シート"],"not_rendered":{"comments":1},"read":"whole","date_system":"1900"}

{"sheet":"サンプル","index":0,"n_rows":32,"n_cols":14,"rows_kept":32,"merged":[[1,1,3,7],[2,8,3,8],[2,9,3,9],[4,2,4,9],[5,2,5,9],[6,2,6,9],[8,11,9,11],[8,12,8,13],[18,12,18,13],[30,1,54,9]]}
[]
[null,"    検   査   成   績   書",{"$nulls":6},"承認","検印"]
[]
[]
[null,"検  査  日"]
[null,"製  品  名"]
[null,"検  査  数"]
[null,"検査項目","２桁","２桁．１桁","３桁","３桁．２桁","４桁","４桁．\n３桁","桁指定無し","単語"]
[null,"上限",80,{"v":80,"d":"80.0"},800,{"v":800,"d":"800.00"},8000,{"v":8000,"d":"8000.000"},{"$nulls":3},"検査項目","数値の発声例"]
[null,"下限",20,{"v":20,"d":"20.0"},200,{"v":200,"d":"200.00"},2000,{"v":2000,"d":"2000.000"},{"$nulls":4},"よみ","出力"]
[null,1,{"$nulls":9},"２桁","さんはち","38"]
[null,2,{"$nulls":9},"２桁．１桁","ごーろんてんきゅう","56.9"]
[null,3,{"$nulls":9},"３桁","ななごーよん","754"]
[null,4,{"$nulls":9},"３桁．２桁","ろくさんはちてんごーいち","638.51"]
[null,5,{"$nulls":9},"４桁","いちきゅーよんにー","1942"]
[null,6,{"$nulls":9},"４桁．３桁","さんななごーよんてんきゅうろくさん","3754.963"]
[null,7,{"$nulls":9},"桁指定無し","好きな桁数で"]
[null,8]
[null,9,{"$nulls":10},"単語"]
[null,10,{"$nulls":10},"よみ","出力"]
[null,11,{"$nulls":10},"いぶつこんにゅう","異物混入"]
[null,12,{"$nulls":10},"いぶつふちゃく","異物付着"]
[null,13,{"$nulls":10},"きず","キズ"]
[null,14,{"$nulls":10},"くらっく","クラック"]
[null,15,{"$nulls":10},"へんけい","変形"]
[null,16,{"$nulls":10},"あぶらふちゃく","油付着"]
[null,17,{"$nulls":10},"きほう","気泡"]
[null,18,{"$nulls":10},"いろむら","色むら"]
[null,19,{"$nulls":10},"やけ","焼け"]
[null,20,{"$nulls":10},"へこみ","へこみ"]
[{"$nulls":12},"われ","ワレ"]
[{"$nulls":12},"みずぬれ","水濡れ"]

{"sheet":"入力設定シート","index":1,"n_rows":129,"n_cols":21,"rows_kept":129,"merged":[[3,1,3,2],[3,3,3,4],[3,6,3,13],[4,1,4,2],[4,3,4,4],[4,6,4,13],[5,1,5,2],[5,3,5,4],[5,6,5,13],[6,6,6,13],[7,6,7,13],[8,6,8,13],[9,6,9,13],[10,6,10,13],[11,6,11,13]]}
["入力設定"]
[]
["黄色セル内に、設定値を入力してください。",{"$nulls":5},"説明：","詳細はヘルプボタンを押してください。"]
[null,"出力シート名",null,"サンプル",null,null,"出力シート名： 音声入力を行うシート名を記述する。"]
[null,"入力方向",null,"↓方向",null,null,"　既存のチェックシート等を使用する場合には、同一ファイル内にコピーする。"]
[null,"入力サンプル数",null,20,null,null,"入力順序：入力方向を選択する。"]
[{"$nulls":6},"　①→方向：サンプル毎に全項目を入力。"]
[null,null,"入力欄",{"$nulls":3},"　②↓方向：項目毎に全サンプルを入力。"]
[null,null,"入力不要",{"$nulls":3},"入力サンプル数：　検査を行うサンプル数を入力。"]
[null,null,"エラー",{"$nulls":3},"⑧範囲区分：リストボックスから規格値の範囲区分を選択する。"]
[{"$nulls":6},"　①上下限：規格値上限値および下限値の範囲を規格範囲として判定する。"]
[{"$nulls":6},"　②公差：規格値に＋公差および－公差を加えた範囲を規格範囲として判定する。"]
["項目設定"]
["①入力項目No",1,2,3,4,5,6,7,8,9,10,11,12,13,14,15,16,17,18,19,20]
["②入力可否","○","○","○","○","○","○","○","○","×","×","×","×","×","×","×","×","×","×","×","×"]
["③入力順序"]
["④発声項目\n　  (空白可)",{"$f":"サンプル!C8","v":"２桁"},{"$f":"サンプル!D8","v":"２桁．１桁"},{"$f":"サンプル!E8","v":"３桁"},{"$f":"サンプル!F8","v":"３桁．２桁"},{"$f":"サンプル!G8","v":"４桁"},{"$f":"サンプル!H8","v":"４桁．\n３桁"},{"$f":"サンプル!I8","v":"桁指定無し"},{"$f":"サンプル!J8","v":"単語"}]
["⑤入力種別","数値","数値","数値","数値","数値","数値","数値","単語","数値","数値","数値","数値","数値","数値","数値","数値","数値","数値","数値","数値"]
["⑥規格ﾁｪｯｸ","○","○","○","○","○","○","×","×","×","×","×","×","×","×","×","×","×","×","×","×"]
["⑦規格値"]
["⑧範囲区分","上下限","上下限","上下限","上下限","上下限","上下限","上下限","上下限","上下限","上下限","上下限","上下限","上下限","上下限","上下限","上下限","上下限","上下限","上下限","上下限"]
["　規格上限値",{"$f":"サンプル!C9","v":80},{"$f":"サンプル!D9","v":{"v":80,"d":"80.0"}},{"$f":"サンプル!E9","v":800},{"$f":"サンプル!F9","v":{"v":800,"d":"800.00"}},{"$f":"サンプル!G9","v":8000},{"$f":"サンプル!H9","v":{"v":8000,"d":"8000.000"}}]
["　規格下限値",{"$f":"サンプル!C10","v":20},{"$f":"サンプル!D10","v":{"v":20,"d":"20.0"}},{"$f":"サンプル!E10","v":200},{"$f":"サンプル!F10","v":{"v":200,"d":"200.00"}},{"$f":"サンプル!G10","v":2000},{"$f":"サンプル!H10","v":{"v":2000,"d":"2000.000"}}]
["　 +公差"]
[" 　-公差"]
["⑨入力値演算"]
["⑩入力桁数",{"v":2,"d":"2.0"},2.1,{"v":3,"d":"3.0"},3.2,{"v":4,"d":"4.0"},4.3]
[]
["データ入力位置",null," 入力は出力シートのセルの参照で行います。"]
[1,{"$f":"サンプル!C11","v":{"v":0,"d":"0 "}},{"$f":"サンプル!D11","v":{"v":0,"d":"0 "}},{"$f":"サンプル!E11","v":{"v":0,"d":"0 "}},{"$f":"サンプル!F11","v":{"v":0,"d":"0 "}},{"$f":"サンプル!G11","v":{"v":0,"d":"0 "}},{"$f":"サンプル!H11","v":{"v":0,"d":"0 "}},{"$f":"サンプル!I11","v":{"v":0,"d":"0 "}},{"$f":"サンプル!J11","v":{"v":0,"d":"0 "}}]
[2,{"$f":"サンプル!C12","v":{"v":0,"d":"0 "}},{"$f":"サンプル!D12","v":{"v":0,"d":"0 "}},{"$f":"サンプル!E12","v":{"v":0,"d":"0 "}},{"$f":"サンプル!F12","v":{"v":0,"d":"0 "}},{"$f":"サンプル!G12","v":{"v":0,"d":"0 "}},{"$f":"サンプル!H12","v":{"v":0,"d":"0 "}},{"$f":"サンプル!I12","v":{"v":0,"d":"0 "}},{"$f":"サンプル!J12","v":{"v":0,"d":"0 "}}]
[3,{"$f":"サンプル!C13","v":{"v":0,"d":"0 "}},{"$f":"サンプル!D13","v":{"v":0,"d":"0 "}},{"$f":"サンプル!E13","v":{"v":0,"d":"0 "}},{"$f":"サンプル!F13","v":{"v":0,"d":"0 "}},{"$f":"サンプル!G13","v":{"v":0,"d":"0 "}},{"$f":"サンプル!H13","v":{"v":0,"d":"0 "}},{"$f":"サンプル!I13","v":{"v":0,"d":"0 "}},{"$f":"サンプル!J13","v":{"v":0,"d":"0 "}}]
[4,{"$f":"サンプル!C14","v":{"v":0,"d":"0 "}},{"$f":"サンプル!D14","v":{"v":0,"d":"0 "}},{"$f":"サンプル!E14","v":{"v":0,"d":"0 "}},{"$f":"サンプル!F14","v":{"v":0,"d":"0 "}},{"$f":"サンプル!G14","v":{"v":0,"d":"0 "}},{"$f":"サンプル!H14","v":{"v":0,"d":"0 "}},{"$f":"サンプル!I14","v":{"v":0,"d":"0 "}},{"$f":"サンプル!J14","v":{"v":0,"d":"0 "}}]
[5,{"$f":"サンプル!C15","v":{"v":0,"d":"0 "}},{"$f":"サンプル!D15","v":{"v":0,"d":"0 "}},{"$f":"サンプル!E15","v":{"v":0,"d":"0 "}},{"$f":"サンプル!F15","v":{"v":0,"d":"0 "}},{"$f":"サンプル!G15","v":{"v":0,"d":"0 "}},{"$f":"サンプル!H15","v":{"v":0,"d":"0 "}},{"$f":"サンプル!I15","v":{"v":0,"d":"0 "}},{"$f":"サンプル!J15","v":{"v":0,"d":"0 "}}]
[6,{"$f":"サンプル!C16","v":{"v":0,"d":"0 "}},{"$f":"サンプル!D16","v":{"v":0,"d":"0 "}},{"$f":"サンプル!E16","v":{"v":0,"d":"0 "}},{"$f":"サンプル!F16","v":{"v":0,"d":"0 "}},{"$f":"サンプル!G16","v":{"v":0,"d":"0 "}},{"$f":"サンプル!H16","v":{"v":0,"d":"0 "}},{"$f":"サンプル!I16","v":{"v":0,"d":"0 "}},{"$f":"サンプル!J16","v":{"v":0,"d":"0 "}}]
[7,{"$f":"サンプル!C17","v":{"v":0,"d":"0 "}},{"$f":"サンプル!D17","v":{"v":0,"d":"0 "}},{"$f":"サンプル!E17","v":{"v":0,"d":"0 "}},{"$f":"サンプル!F17","v":{"v":0,"d":"0 "}},{"$f":"サンプル!G17","v":{"v":0,"d":"0 "}},{"$f":"サンプル!H17","v":{"v":0,"d":"0 "}},{"$f":"サンプル!I17","v":{"v":0,"d":"0 "}},{"$f":"サンプル!J17","v":{"v":0,"d":"0 "}}]
[8,{"$f":"サンプル!C18","v":{"v":0,"d":"0 "}},{"$f":"サンプル!D18","v":{"v":0,"d":"0 "}},{"$f":"サンプル!E18","v":{"v":0,"d":"0 "}},{"$f":"サンプル!F18","v":{"v":0,"d":"0 "}},{"$f":"サンプル!G18","v":{"v":0,"d":"0 "}},{"$f":"サンプル!H18","v":{"v":0,"d":"0 "}},{"$f":"サンプル!I18","v":{"v":0,"d":"0 "}},{"$f":"サンプル!J18","v":{"v":0,"d":"0 "}}]
[9,{"$f":"サンプル!C19","v":{"v":0,"d":"0 "}},{"$f":"サンプル!D19","v":{"v":0,"d":"0 "}},{"$f":"サンプル!E19","v":{"v":0,"d":"0 "}},{"$f":"サンプル!F19","v":{"v":0,"d":"0 "}},{"$f":"サンプル!G19","v":{"v":0,"d":"0 "}},{"$f":"サンプル!H19","v":{"v":0,"d":"0 "}},{"$f":"サンプル!I19","v":{"v":0,"d":"0 "}},{"$f":"サンプル!J19","v":{"v":0,"d":"0 "}}]
[10,{"$f":"サンプル!C20","v":{"v":0,"d":"0 "}},{"$f":"サンプル!D20","v":{"v":0,"d":"0 "}},{"$f":"サンプル!E20","v":{"v":0,"d":"0 "}},{"$f":"サンプル!F20","v":{"v":0,"d":"0 "}},{"$f":"サンプル!G20","v":{"v":0,"d":"0 "}},{"$f":"サンプル!H20","v":{"v":0,"d":"0 "}},{"$f":"サンプル!I20","v":{"v":0,"d":"0 "}},{"$f":"サンプル!J20","v":{"v":0,"d":"0 "}}]
[11,{"$f":"サンプル!C21","v":{"v":0,"d":"0 "}},{"$f":"サンプル!D21","v":{"v":0,"d":"0 "}},{"$f":"サンプル!E21","v":{"v":0,"d":"0 "}},{"$f":"サンプル!F21","v":{"v":0,"d":"0 "}},{"$f":"サンプル!G21","v":{"v":0,"d":"0 "}},{"$f":"サンプル!H21","v":{"v":0,"d":"0 "}},{"$f":"サンプル!I21","v":{"v":0,"d":"0 "}},{"$f":"サンプル!J21","v":{"v":0,"d":"0 "}}]
[12,{"$f":"サンプル!C22","v":{"v":0,"d":"0 "}},{"$f":"サンプル!D22","v":{"v":0,"d":"0 "}},{"$f":"サンプル!E22","v":{"v":0,"d":"0 "}},{"$f":"サンプル!F22","v":{"v":0,"d":"0 "}},{"$f":"サンプル!G22","v":{"v":0,"d":"0 "}},{"$f":"サンプル!H22","v":{"v":0,"d":"0 "}},{"$f":"サンプル!I22","v":{"v":0,"d":"0 "}},{"$f":"サンプル!J22","v":{"v":0,"d":"0 "}}]
[13,{"$f":"サンプル!C23","v":{"v":0,"d":"0 "}},{"$f":"サンプル!D23","v":{"v":0,"d":"0 "}},{"$f":"サンプル!E23","v":{"v":0,"d":"0 "}},{"$f":"サンプル!F23","v":{"v":0,"d":"0 "}},{"$f":"サンプル!G23","v":{"v":0,"d":"0 "}},{"$f":"サンプル!H23","v":{"v":0,"d":"0 "}},{"$f":"サンプル!I23","v":{"v":0,"d":"0 "}},{"$f":"サンプル!J23","v":{"v":0,"d":"0 "}}]
[14,{"$f":"サンプル!C24","v":{"v":0,"d":"0 "}},{"$f":"サンプル!D24","v":{"v":0,"d":"0 "}},{"$f":"サンプル!E24","v":{"v":0,"d":"0 "}},{"$f":"サンプル!F24","v":{"v":0,"d":"0 "}},{"$f":"サンプル!G24","v":{"v":0,"d":"0 "}},{"$f":"サンプル!H24","v":{"v":0,"d":"0 "}},{"$f":"サンプル!I24","v":{"v":0,"d":"0 "}},{"$f":"サンプル!J24","v":{"v":0,"d":"0 "}}]
[15,{"$f":"サンプル!C25","v":{"v":0,"d":"0 "}},{"$f":"サンプル!D25","v":{"v":0,"d":"0 "}},{"$f":"サンプル!E25","v":{"v":0,"d":"0 "}},{"$f":"サンプル!F25","v":{"v":0,"d":"0 "}},{"$f":"サンプル!G25","v":{"v":0,"d":"0 "}},{"$f":"サンプル!H25","v":{"v":0,"d":"0 "}},{"$f":"サンプル!I25","v":{"v":0,"d":"0 "}},{"$f":"サンプル!J25","v":{"v":0,"d":"0 "}}]
[16,{"$f":"サンプル!C26","v":{"v":0,"d":"0 "}},{"$f":"サンプル!D26","v":{"v":0,"d":"0 "}},{"$f":"サンプル!E26","v":{"v":0,"d":"0 "}},{"$f":"サンプル!F26","v":{"v":0,"d":"0 "}},{"$f":"サンプル!G26","v":{"v":0,"d":"0 "}},{"$f":"サンプル!H26","v":{"v":0,"d":"0 "}},{"$f":"サンプル!I26","v":{"v":0,"d":"0 "}},{"$f":"サンプル!J26","v":{"v":0,"d":"0 "}}]
[17,{"$f":"サンプル!C27","v":{"v":0,"d":"0 "}},{"$f":"サンプル!D27","v":{"v":0,"d":"0 "}},{"$f":"サンプル!E27","v":{"v":0,"d":"0 "}},{"$f":"サンプル!F27","v":{"v":0,"d":"0 "}},{"$f":"サンプル!G27","v":{"v":0,"d":"0 "}},{"$f":"サンプル!H27","v":{"v":0,"d":"0 "}},{"$f":"サンプル!I27","v":{"v":0,"d":"0 "}},{"$f":"サンプル!J27","v":{"v":0,"d":"0 "}}]
[18,{"$f":"サンプル!C28","v":{"v":0,"d":"0 "}},{"$f":"サンプル!D28","v":{"v":0,"d":"0 "}},{"$f":"サンプル!E28","v":{"v":0,"d":"0 "}},{"$f":"サンプル!F28","v":{"v":0,"d":"0 "}},{"$f":"サンプル!G28","v":{"v":0,"d":"0 "}},{"$f":"サンプル!H28","v":{"v":0,"d":"0 "}},{"$f":"サンプル!I28","v":{"v":0,"d":"0 "}},{"$f":"サンプル!J28","v":{"v":0,"d":"0 "}}]
[19,{"$f":"サンプル!C29","v":{"v":0,"d":"0 "}},{"$f":"サンプル!D29","v":{"v":0,"d":"0 "}},{"$f":"サンプル!E29","v":{"v":0,"d":"0 "}},{"$f":"サンプル!F29","v":{"v":0,"d":"0 "}},{"$f":"サンプル!G29","v":{"v":0,"d":"0 "}},{"$f":"サンプル!H29","v":{"v":0,"d":"0 "}},{"$f":"サンプル!I29","v":{"v":0,"d":"0 "}},{"$f":"サンプル!J29","v":{"v":0,"d":"0 "}}]
[20,{"$f":"サンプル!C30","v":{"v":0,"d":"0 "}},{"$f":"サンプル!D30","v":{"v":0,"d":"0 "}},{"$f":"サンプル!E30","v":{"v":0,"d":"0 "}},{"$f":"サンプル!F30","v":{"v":0,"d":"0 "}},{"$f":"サンプル!G30","v":{"v":0,"d":"0 "}},{"$f":"サンプル!H30","v":{"v":0,"d":"0 "}},{"$f":"サンプル!I30","v":{"v":0,"d":"0 "}},{"$f":"サンプル!J30","v":{"v":0,"d":"0 "}}]
[21]
[22]
[23]
[24]
[25]
[26]
[27]
[28]
[29]
[30]
[31]
[32]
[33]
[34]
[35]
[36]
[37]
[38]
[39]
[40]
[41]
[42]
[43]
[44]
[45]
[46]
[47]
[48]
[49]
[50]
[51]
[52]
[53]
[54]
[55]
[56]
[57]
[58]
[59]
[60]
[61]
[62]
[63]
[64]
[65]
[66]
[67]
[68]
[69]
[70]
[71]
[72]
[73]
[74]
[75]
[76]
[77]
[78]
[79]
[80]
[81]
[82]
[83]
[84]
[85]
[86]
[87]
[88]
[89]
[90]
[91]
[92]
[93]
[94]
[95]
[96]
[97]
[98]
[99]
[100]